BEGIN:VCALENDAR
VERSION:2.0
PRODID:-//Daisy &amp; Co. Wine Bar - ECPv6.14.2//NONSGML v1.0//EN
CALSCALE:GREGORIAN
METHOD:PUBLISH
X-ORIGINAL-URL:https://daisyco.net
X-WR-CALDESC:Events for Daisy &amp; Co. Wine Bar
REFRESH-INTERVAL;VALUE=DURATION:PT1H
X-Robots-Tag:noindex
X-PUBLISHED-TTL:PT1H
BEGIN:VTIMEZONE
TZID:America/Toronto
BEGIN:DAYLIGHT
TZOFFSETFROM:-0500
TZOFFSETTO:-0400
TZNAME:EDT
DTSTART:20260308T070000
END:DAYLIGHT
BEGIN:STANDARD
TZOFFSETFROM:-0400
TZOFFSETTO:-0500
TZNAME:EST
DTSTART:20261101T060000
END:STANDARD
END:VTIMEZONE
BEGIN:VEVENT
DTSTART;TZID=America/Toronto:20260125T090000
DTEND;TZID=America/Toronto:20260125T120000
DTSTAMP:20260420T091713
CREATED:20251217T200743Z
LAST-MODIFIED:20260109T110321Z
UID:25674-1769331600-1769342400@daisyco.net
SUMMARY:The Real You Reset
DESCRIPTION:Reclaim Your Inner Power—Unapologetically. Rediscover your true self and kickstart a fresh new chapter in your life!\n\n\nThe Real You Reset \nA transformational workshop for those ready to step into their fullest potential\, release old patterns of unworthiness and self-doubt\, and finally stop carrying the weight of others’ opinions. \nDiscover the version of you that has always been worthy\, powerful\, and unapologetically authentic.
URL:https://daisyco.net/events/the-real-you-reset/
LOCATION:Daisy & Co. Wine Bar\, 41 King Street West\, Essex\, ON\, N0R 1G0\, Canada
ATTACH;FMTTYPE=image/jpeg:https://daisyco.net/wp-content/uploads/2025/12/14805779eecbe1dcb6bc867948226eff-Gq6fue.tmp_.jpg
END:VEVENT
BEGIN:VEVENT
DTSTART;TZID=America/Toronto:20260125T150000
DTEND;TZID=America/Toronto:20260125T180000
DTSTAMP:20260420T091713
CREATED:20251217T200744Z
LAST-MODIFIED:20260109T110321Z
UID:25676-1769353200-1769364000@daisyco.net
SUMMARY:Live Music Sundays
DESCRIPTION:Unwind and ease into Sunday afternoon with live music at Daisy & Co.\n\n\nWelcome to Live Music Sunday at Daisy & Co. Wine Bar! \nSettle in for an afternoon of fantastic tunes\, delicious drinks\, and great company. Our talented musicians will keep the vibe cozy\, relaxed\, and entertaining from start to finish.
URL:https://daisyco.net/events/live-music-sundays-66/
LOCATION:Daisy & Co. Wine Bar\, 41 King Street West\, Essex\, ON\, N0R 1G0\, Canada
ATTACH;FMTTYPE=image/jpeg:https://daisyco.net/wp-content/uploads/2025/07/cce8ae8eef2f042b3350c1f192cb5bb7-De3eI9.tmp_.jpg
END:VEVENT
END:VCALENDAR