BEGIN:VCALENDAR
VERSION:2.0
PRODID:-//Daisy &amp; Co. Wine Bar - ECPv6.14.2//NONSGML v1.0//EN
CALSCALE:GREGORIAN
METHOD:PUBLISH
X-ORIGINAL-URL:https://daisyco.net
X-WR-CALDESC:Events for Daisy &amp; Co. Wine Bar
REFRESH-INTERVAL;VALUE=DURATION:PT1H
X-Robots-Tag:noindex
X-PUBLISHED-TTL:PT1H
BEGIN:VTIMEZONE
TZID:America/Toronto
BEGIN:DAYLIGHT
TZOFFSETFROM:-0500
TZOFFSETTO:-0400
TZNAME:EDT
DTSTART:20260308T070000
END:DAYLIGHT
BEGIN:STANDARD
TZOFFSETFROM:-0400
TZOFFSETTO:-0500
TZNAME:EST
DTSTART:20261101T060000
END:STANDARD
END:VTIMEZONE
BEGIN:VEVENT
DTSTART;TZID=America/Toronto:20260228T150000
DTEND;TZID=America/Toronto:20260228T163000
DTSTAMP:20260421T102152
CREATED:20251217T200747Z
LAST-MODIFIED:20260209T123844Z
UID:25679-1772290800-1772296200@daisyco.net
SUMMARY:4 Part Meet the Author  Series
DESCRIPTION:A three-part series celebrating local authors featuring book readings\, signings\, and an interactive workshop.\n\n\nPart 1 — Saturday\, December 13 at 3 PMJoin us for a special afternoon with Cathy Manherz\, author of Just Because. Enjoy a book signing and selected readings from her work. \nPart 2 — Saturday\, January 24 at 3 PMWorkshop: From Conversation to Legacy: How to Interview\, Write\, and Preserve Your Family StoryFeaturing Beth Oakley\, this interactive session will guide you in capturing meaningful family stories for generations to come. \nPart 3 — Saturday\, February 28 at 3 PM-  Featuring Short Stories with Downtown Donna \nPart 4 — Saturday\, March 28 at 3 PMSpend the afternoon with Gary May\, author of The Unburdening: A Novel. Enjoy a book signing and selected readings from his newest release.
URL:https://daisyco.net/events/4-part-meet-the-author-series-2/
LOCATION:Daisy & Co. Wine Bar\, 41 King Street West\, Essex\, ON\, N0R 1G0\, Canada
ATTACH;FMTTYPE=image/jpeg:https://daisyco.net/wp-content/uploads/2025/12/3527e94c387854ccda1d51d59d11fd00-eaKypH.tmp_.jpg
END:VEVENT
END:VCALENDAR