BEGIN:VCALENDAR
VERSION:2.0
PRODID:-//Daisy &amp; Co. Wine Bar - ECPv6.14.2//NONSGML v1.0//EN
CALSCALE:GREGORIAN
METHOD:PUBLISH
X-WR-CALNAME:Daisy &amp; Co. Wine Bar
X-ORIGINAL-URL:https://daisyco.net
X-WR-CALDESC:Events for Daisy &amp; Co. Wine Bar
REFRESH-INTERVAL;VALUE=DURATION:PT1H
X-Robots-Tag:noindex
X-PUBLISHED-TTL:PT1H
BEGIN:VTIMEZONE
TZID:America/Toronto
BEGIN:DAYLIGHT
TZOFFSETFROM:-0500
TZOFFSETTO:-0400
TZNAME:EDT
DTSTART:20260308T070000
END:DAYLIGHT
BEGIN:STANDARD
TZOFFSETFROM:-0400
TZOFFSETTO:-0500
TZNAME:EST
DTSTART:20261101T060000
END:STANDARD
END:VTIMEZONE
BEGIN:VEVENT
DTSTART;TZID=America/Toronto:20260421T190000
DTEND;TZID=America/Toronto:20260421T203000
DTSTAMP:20260423T084739
CREATED:20260413T113912Z
LAST-MODIFIED:20260413T113913Z
UID:25962-1776798000-1776803400@daisyco.net
SUMMARY:Beginner Salsa Class
DESCRIPTION:Join us for a fun\, energetic evening as Amir guides you through salsa basics—no experience needed\, just come ready to learn and have fun.\n\n\nTuesday April 21 ~ 7PM \nJoin us for a fun and energetic evening as Amir guides you through the basics of salsa. Come solo or bring a partner—no experience needed\, just a willingness to learn and have fun. \n$25 per person includes instruction and a beverage of choice. \nPre-registration required.
URL:https://daisyco.net/events/beginner-salsa-class/
LOCATION:Daisy & Co. Wine Bar\, 41 King Street West\, Essex\, ON\, N0R 1G0\, Canada
ATTACH;FMTTYPE=image/jpeg:https://daisyco.net/wp-content/uploads/2026/04/ca4bc66711712c79f384ff9b553145b3-Gkc3vI.tmp_.jpg
END:VEVENT
END:VCALENDAR