BEGIN:VCALENDAR
VERSION:2.0
PRODID:-//Daisy &amp; Co. Wine Bar - ECPv6.14.2//NONSGML v1.0//EN
CALSCALE:GREGORIAN
METHOD:PUBLISH
X-ORIGINAL-URL:https://daisyco.net
X-WR-CALDESC:Events for Daisy &amp; Co. Wine Bar
REFRESH-INTERVAL;VALUE=DURATION:PT1H
X-Robots-Tag:noindex
X-PUBLISHED-TTL:PT1H
BEGIN:VTIMEZONE
TZID:America/Toronto
BEGIN:DAYLIGHT
TZOFFSETFROM:-0500
TZOFFSETTO:-0400
TZNAME:EDT
DTSTART:20260308T070000
END:DAYLIGHT
BEGIN:STANDARD
TZOFFSETFROM:-0400
TZOFFSETTO:-0500
TZNAME:EST
DTSTART:20261101T060000
END:STANDARD
END:VTIMEZONE
BEGIN:VEVENT
DTSTART;TZID=America/Toronto:20260430T183000
DTEND;TZID=America/Toronto:20260430T210000
DTSTAMP:20260422T085513
CREATED:20260413T113915Z
LAST-MODIFIED:20260413T113937Z
UID:25967-1777573800-1777582800@daisyco.net
SUMMARY:Vision Board Workshop
DESCRIPTION:Join us in person to craft your dream vision board and set goals for the future.\n\n\nJoin Our Vision Board Workshop!\nA vision board workshop is a guided\, creative experience designed to help you clarify your goals and intentions. You’ll thoughtfully curate images\, words\, and visuals to create a personalized vision board\, all while enjoying a relaxed atmosphere and a glass of wine. Author and Facilitator Cathy Manherz will introduce practical techniques for setting focused goals with clear\, achievable timelines. \n$39 per person — includes a glass of wine\, Cathy’s book\, and all workshop materials.
URL:https://daisyco.net/events/vision-board-workshop-2/
LOCATION:Daisy & Co. Wine Bar\, 41 King Street West\, Essex\, ON\, N0R 1G0\, Canada
ATTACH;FMTTYPE=image/jpeg:https://daisyco.net/wp-content/uploads/2026/04/69ac851475f9aabe0114e5c92d73ec38-0hUt1U.tmp_.jpg
END:VEVENT
END:VCALENDAR