BEGIN:VCALENDAR
VERSION:2.0
PRODID:-//Daisy &amp; Co. Wine Bar - ECPv6.14.2//NONSGML v1.0//EN
CALSCALE:GREGORIAN
METHOD:PUBLISH
X-ORIGINAL-URL:https://daisyco.net
X-WR-CALDESC:Events for Daisy &amp; Co. Wine Bar
REFRESH-INTERVAL;VALUE=DURATION:PT1H
X-Robots-Tag:noindex
X-PUBLISHED-TTL:PT1H
BEGIN:VTIMEZONE
TZID:America/Toronto
BEGIN:DAYLIGHT
TZOFFSETFROM:-0500
TZOFFSETTO:-0400
TZNAME:EDT
DTSTART:20260308T070000
END:DAYLIGHT
BEGIN:STANDARD
TZOFFSETFROM:-0400
TZOFFSETTO:-0500
TZNAME:EST
DTSTART:20261101T060000
END:STANDARD
END:VTIMEZONE
BEGIN:VEVENT
DTSTART;TZID=America/Toronto:20260521T190000
DTEND;TZID=America/Toronto:20260521T220000
DTSTAMP:20260420T090315
CREATED:20260209T123901Z
LAST-MODIFIED:20260413T113931Z
UID:25846-1779390000-1779400800@daisyco.net
SUMMARY:Daisy & Co. Trivia Night
DESCRIPTION:Join us at Daisy & Co. Trivia Night for fun\, laughs\, and brain-teasing challenges with friends!\n\n\nGet Ready for Daisy & Co. Trivia Nights!\nJoin us every other THursday beginnign February 26 for an evening filled with fun\, laughter\, and challenging trivia questions! Whether you’re a trivia master or just in it for the laughs\, Daisy & Co. Trivia Nights is the place to be. Get a team togegether and show off your smarts. Don’t miss out on the chance to win some prizes! Please note: Nominal table minimum spend applies.
URL:https://daisyco.net/events/daisy-co-trivia-night-7/
LOCATION:Daisy & Co. Wine Bar\, 41 King Street West\, Essex\, ON\, N0R 1G0\, Canada
ATTACH;FMTTYPE=image/jpeg:https://daisyco.net/wp-content/uploads/2026/02/4202e32f9dfd0c5aa0e04f5640b1ae9f-4n2ZIG.tmp_.jpg
END:VEVENT
END:VCALENDAR