BEGIN:VCALENDAR
VERSION:2.0
PRODID:-//Daisy &amp; Co. Wine Bar - ECPv6.14.2//NONSGML v1.0//EN
CALSCALE:GREGORIAN
METHOD:PUBLISH
X-WR-CALNAME:Daisy &amp; Co. Wine Bar
X-ORIGINAL-URL:https://daisyco.net
X-WR-CALDESC:Events for Daisy &amp; Co. Wine Bar
REFRESH-INTERVAL;VALUE=DURATION:PT1H
X-Robots-Tag:noindex
X-PUBLISHED-TTL:PT1H
BEGIN:VTIMEZONE
TZID:America/Toronto
BEGIN:DAYLIGHT
TZOFFSETFROM:-0500
TZOFFSETTO:-0400
TZNAME:EDT
DTSTART:20260308T070000
END:DAYLIGHT
BEGIN:STANDARD
TZOFFSETFROM:-0400
TZOFFSETTO:-0500
TZNAME:EST
DTSTART:20261101T060000
END:STANDARD
END:VTIMEZONE
BEGIN:VEVENT
DTSTART;TZID=America/Toronto:20260222T150000
DTEND;TZID=America/Toronto:20260222T180000
DTSTAMP:20260421T194218
CREATED:20260209T123840Z
LAST-MODIFIED:20260209T123845Z
UID:25820-1771772400-1771783200@daisyco.net
SUMMARY:Live Music Sundays
DESCRIPTION:Relax and unwind every Sunday with live\, local talent great company – see you there!\n\n\nLive Music Sundays\nGet ready to kick back and enjoy amazing tunes every Sunday afternoon! We bring you the best local  artists\, creating the perfect vibe to chill with friends or meet new people. A great way to wrap up your weekend.  See you there!
URL:https://daisyco.net/events/live-music-sundays-69/
LOCATION:Daisy & Co. Wine Bar\, 41 King Street West\, Essex\, ON\, N0R 1G0\, Canada
ATTACH;FMTTYPE=image/jpeg:https://daisyco.net/wp-content/uploads/2026/02/a0c65ec798f799d838faf7a5e2f602a2-bYiEyy.tmp_.jpg
END:VEVENT
BEGIN:VEVENT
DTSTART;TZID=America/Toronto:20260215T150000
DTEND;TZID=America/Toronto:20260215T180000
DTSTAMP:20260421T194218
CREATED:20260209T123839Z
LAST-MODIFIED:20260209T123840Z
UID:25818-1771167600-1771178400@daisyco.net
SUMMARY:Live Music Sundays
DESCRIPTION:Relax and unwind every Sunday with live\, local talent great company – see you there!\n\n\nLive Music Sundays\nGet ready to kick back and enjoy amazing tunes every Sunday afternoon! We bring you the best local  artists\, creating the perfect vibe to chill with friends or meet new people. A great way to wrap up your weekend.  See you there!
URL:https://daisyco.net/events/live-music-sundays-68/
LOCATION:Daisy & Co. Wine Bar\, 41 King Street West\, Essex\, ON\, N0R 1G0\, Canada
ATTACH;FMTTYPE=image/jpeg:https://daisyco.net/wp-content/uploads/2026/02/a0c65ec798f799d838faf7a5e2f602a2-bYiEyy.tmp_.jpg
END:VEVENT
BEGIN:VEVENT
DTSTART;TZID=America/Toronto:20260215T090000
DTEND;TZID=America/Toronto:20260215T120000
DTSTAMP:20260421T194218
CREATED:20260209T123838Z
LAST-MODIFIED:20260209T123838Z
UID:25815-1771146000-1771156800@daisyco.net
SUMMARY:The Real You Reset Workshop
DESCRIPTION:Reclaim Your Inner Power—Unapologetically. Rediscover your true self and kickstart a fresh new chapter in your life!\n\n\nThe Real You Reset is an immersive\, heart-led workshop designed to help you reconnect with who you truly are\, gain clarity on where you are now\, and intentionally step into what’s next.Through guided reflection and experiential tools\, you’ll uncover what’s been driving your results in health\, relationships\, and success—and learn how to align your mind\, emotions\, and energy as you move forward with confidence.This isn’t about another to-do list. It’s about your “To Be List”—the qualities\, feelings\, and identity you’re choosing to embody as you move into 2026.You’ll be introduced to HeartMath and Emotion Code\, with guest experts exploring how Colour Analysis and Personal Style can help you not just envision your next chapter—but feel it.Each participant receives a curated swag bag filled with exclusive offers and alignment-supporting resources.If you’re ready to reset\, realign\, and step into the most authentic version of you—this experience is for you.Presenters:• Jenny Labrada – HeartMath Practitioner & Trainer• Kim Everett – Certified Emotion Code Practitioner• Suzanne Brogan – Styling with Suzanne (Touch of Colour)• Mayeth Juadan – Founder\, Southern Chaarmzz Boutique (with Kiana\, Ms. 2022 Model Search Canada)
URL:https://daisyco.net/events/the-real-you-reset-workshop-2/
LOCATION:Daisy & Co. Wine Bar\, 41 King Street West\, Essex\, ON\, N0R 1G0\, Canada
ATTACH;FMTTYPE=image/jpeg:https://daisyco.net/wp-content/uploads/2026/02/418ee8d926ec5b39454da47e38d8c78f-CgOVw8.tmp_.jpg
END:VEVENT
BEGIN:VEVENT
DTSTART;TZID=America/Toronto:20260201T150000
DTEND;TZID=America/Toronto:20260201T180000
DTSTAMP:20260421T194218
CREATED:20251217T200746Z
LAST-MODIFIED:20260109T110321Z
UID:25678-1769958000-1769968800@daisyco.net
SUMMARY:Live Music Sundays
DESCRIPTION:Unwind and ease into Sunday afternoon with live music at Daisy & Co.\n\n\nWelcome to Live Music Sunday at Daisy & Co. Wine Bar! \nSettle in for an afternoon of fantastic tunes\, delicious drinks\, and great company. Our talented musicians will keep the vibe cozy\, relaxed\, and entertaining from start to finish.
URL:https://daisyco.net/events/live-music-sundays-67/
LOCATION:Daisy & Co. Wine Bar\, 41 King Street West\, Essex\, ON\, N0R 1G0\, Canada
ATTACH;FMTTYPE=image/jpeg:https://daisyco.net/wp-content/uploads/2025/07/cce8ae8eef2f042b3350c1f192cb5bb7-De3eI9.tmp_.jpg
END:VEVENT
BEGIN:VEVENT
DTSTART;TZID=America/Toronto:20260125T150000
DTEND;TZID=America/Toronto:20260125T180000
DTSTAMP:20260421T194218
CREATED:20251217T200744Z
LAST-MODIFIED:20260109T110321Z
UID:25676-1769353200-1769364000@daisyco.net
SUMMARY:Live Music Sundays
DESCRIPTION:Unwind and ease into Sunday afternoon with live music at Daisy & Co.\n\n\nWelcome to Live Music Sunday at Daisy & Co. Wine Bar! \nSettle in for an afternoon of fantastic tunes\, delicious drinks\, and great company. Our talented musicians will keep the vibe cozy\, relaxed\, and entertaining from start to finish.
URL:https://daisyco.net/events/live-music-sundays-66/
LOCATION:Daisy & Co. Wine Bar\, 41 King Street West\, Essex\, ON\, N0R 1G0\, Canada
ATTACH;FMTTYPE=image/jpeg:https://daisyco.net/wp-content/uploads/2025/07/cce8ae8eef2f042b3350c1f192cb5bb7-De3eI9.tmp_.jpg
END:VEVENT
BEGIN:VEVENT
DTSTART;TZID=America/Toronto:20260125T090000
DTEND;TZID=America/Toronto:20260125T120000
DTSTAMP:20260421T194218
CREATED:20251217T200743Z
LAST-MODIFIED:20260109T110321Z
UID:25674-1769331600-1769342400@daisyco.net
SUMMARY:The Real You Reset
DESCRIPTION:Reclaim Your Inner Power—Unapologetically. Rediscover your true self and kickstart a fresh new chapter in your life!\n\n\nThe Real You Reset \nA transformational workshop for those ready to step into their fullest potential\, release old patterns of unworthiness and self-doubt\, and finally stop carrying the weight of others’ opinions. \nDiscover the version of you that has always been worthy\, powerful\, and unapologetically authentic.
URL:https://daisyco.net/events/the-real-you-reset/
LOCATION:Daisy & Co. Wine Bar\, 41 King Street West\, Essex\, ON\, N0R 1G0\, Canada
ATTACH;FMTTYPE=image/jpeg:https://daisyco.net/wp-content/uploads/2025/12/14805779eecbe1dcb6bc867948226eff-Gq6fue.tmp_.jpg
END:VEVENT
BEGIN:VEVENT
DTSTART;TZID=America/Toronto:20260124T150000
DTEND;TZID=America/Toronto:20260124T170000
DTSTAMP:20260421T194218
CREATED:20251217T200742Z
LAST-MODIFIED:20260109T110256Z
UID:25673-1769266800-1769274000@daisyco.net
SUMMARY:4 Part Meet the Author  Series
DESCRIPTION:A three-part series celebrating local authors featuring book readings\, signings\, and an interactive workshop.\n\n\nPart 1 — Saturday\, December 13 at 3 PMJoin us for a special afternoon with Cathy Manherz\, author of Just Because. Enjoy a book signing and selected readings from her work. \nPart 2 — Saturday\, January 24 at 3 PMWorkshop: From Conversation to Legacy: How to Interview\, Write\, and Preserve Your Family StoryFeaturing Beth Oakley\, this interactive session will guide you in capturing meaningful family stories for generations to come. \nPart 3 — Saturday\, February 28 at 3 PM-  Featuring Short Stories with Downtown Donna \nPart 4 — Saturday\, March 28 at 3 PMSpend the afternoon with Gary May\, author of The Unburdening: A Novel. Enjoy a book signing and selected readings from his newest release.
URL:https://daisyco.net/events/4-part-meet-the-author-series/
LOCATION:Daisy & Co. Wine Bar\, 41 King Street West\, Essex\, ON\, N0R 1G0\, Canada
ATTACH;FMTTYPE=image/jpeg:https://daisyco.net/wp-content/uploads/2025/12/3527e94c387854ccda1d51d59d11fd00-eaKypH.tmp_.jpg
END:VEVENT
BEGIN:VEVENT
DTSTART;TZID=America/Toronto:20260118T150000
DTEND;TZID=America/Toronto:20260118T180000
DTSTAMP:20260421T194218
CREATED:20251217T200741Z
LAST-MODIFIED:20260109T110321Z
UID:25672-1768748400-1768759200@daisyco.net
SUMMARY:Live Music Sundays
DESCRIPTION:Unwind and ease into Sunday afternoon with live music at Daisy & Co.\n\n\nWelcome to Live Music Sunday at Daisy & Co. Wine Bar! \nSettle in for an afternoon of fantastic tunes\, delicious drinks\, and great company. Our talented musicians will keep the vibe cozy\, relaxed\, and entertaining from start to finish.
URL:https://daisyco.net/events/live-music-sundays-65/
LOCATION:Daisy & Co. Wine Bar\, 41 King Street West\, Essex\, ON\, N0R 1G0\, Canada
ATTACH;FMTTYPE=image/jpeg:https://daisyco.net/wp-content/uploads/2025/07/cce8ae8eef2f042b3350c1f192cb5bb7-De3eI9.tmp_.jpg
END:VEVENT
BEGIN:VEVENT
DTSTART;TZID=America/Toronto:20260111T150000
DTEND;TZID=America/Toronto:20260111T180000
DTSTAMP:20260421T194218
CREATED:20251217T200740Z
LAST-MODIFIED:20260109T110321Z
UID:25671-1768143600-1768154400@daisyco.net
SUMMARY:Live Music Sundays
DESCRIPTION:Unwind and ease into Sunday afternoon with live music at Daisy & Co.\n\n\nWelcome to Live Music Sunday at Daisy & Co. Wine Bar! \nSettle in for an afternoon of fantastic tunes\, delicious drinks\, and great company. Our talented musicians will keep the vibe cozy\, relaxed\, and entertaining from start to finish.
URL:https://daisyco.net/events/live-music-sundays-64/
LOCATION:Daisy & Co. Wine Bar\, 41 King Street West\, Essex\, ON\, N0R 1G0\, Canada
ATTACH;FMTTYPE=image/jpeg:https://daisyco.net/wp-content/uploads/2025/07/cce8ae8eef2f042b3350c1f192cb5bb7-De3eI9.tmp_.jpg
END:VEVENT
BEGIN:VEVENT
DTSTART;TZID=America/Toronto:20260110T123000
DTEND;TZID=America/Toronto:20260110T153000
DTSTAMP:20260421T194218
CREATED:20260107T161914Z
LAST-MODIFIED:20260109T110322Z
UID:25729-1768048200-1768059000@daisyco.net
SUMMARY:Vision Board Workshop
DESCRIPTION:Join us in person to craft your dream vision board and set goals for an awesome year ahead!\n\n\nJoin Our Vision Board Workshop!\nA vision board workshop is a guided\, creative experience designed to help you clarify your goals and intentions. You’ll thoughtfully curate images\, words\, and visuals to create a personalized vision board\, all while enjoying a relaxed atmosphere and a glass of wine. Author and Facilitator Cathy Manherz will introduce practical techniques for setting focused goals with clear\, achievable timelines. \n$39 per person — includes a glass of wine\, Cathy’s book\, and all workshop materials.
URL:https://daisyco.net/events/vision-board-workshop/
LOCATION:Daisy & Co. Wine Bar\, 41 King Street West\, Essex\, ON\, N0R 1G0\, Canada
ATTACH;FMTTYPE=image/jpeg:https://daisyco.net/wp-content/uploads/2026/01/1088f91a07d2ac9092bb67722de082ae-7bKkwh.tmp_.jpg
END:VEVENT
END:VCALENDAR