BEGIN:VCALENDAR
VERSION:2.0
PRODID:-//Daisy &amp; Co. Wine Bar - ECPv6.14.2//NONSGML v1.0//EN
CALSCALE:GREGORIAN
METHOD:PUBLISH
X-WR-CALNAME:Daisy &amp; Co. Wine Bar
X-ORIGINAL-URL:https://daisyco.net
X-WR-CALDESC:Events for Daisy &amp; Co. Wine Bar
REFRESH-INTERVAL;VALUE=DURATION:PT1H
X-Robots-Tag:noindex
X-PUBLISHED-TTL:PT1H
BEGIN:VTIMEZONE
TZID:America/Toronto
BEGIN:DAYLIGHT
TZOFFSETFROM:-0500
TZOFFSETTO:-0400
TZNAME:EDT
DTSTART:20260308T070000
END:DAYLIGHT
BEGIN:STANDARD
TZOFFSETFROM:-0400
TZOFFSETTO:-0500
TZNAME:EST
DTSTART:20261101T060000
END:STANDARD
END:VTIMEZONE
BEGIN:VEVENT
DTSTART;TZID=America/Toronto:20260111T150000
DTEND;TZID=America/Toronto:20260111T180000
DTSTAMP:20260421T212707
CREATED:20251217T200740Z
LAST-MODIFIED:20260109T110321Z
UID:25671-1768143600-1768154400@daisyco.net
SUMMARY:Live Music Sundays
DESCRIPTION:Unwind and ease into Sunday afternoon with live music at Daisy & Co.\n\n\nWelcome to Live Music Sunday at Daisy & Co. Wine Bar! \nSettle in for an afternoon of fantastic tunes\, delicious drinks\, and great company. Our talented musicians will keep the vibe cozy\, relaxed\, and entertaining from start to finish.
URL:https://daisyco.net/events/live-music-sundays-64/
LOCATION:Daisy & Co. Wine Bar\, 41 King Street West\, Essex\, ON\, N0R 1G0\, Canada
ATTACH;FMTTYPE=image/jpeg:https://daisyco.net/wp-content/uploads/2025/07/cce8ae8eef2f042b3350c1f192cb5bb7-De3eI9.tmp_.jpg
END:VEVENT
BEGIN:VEVENT
DTSTART;TZID=America/Toronto:20260110T123000
DTEND;TZID=America/Toronto:20260110T153000
DTSTAMP:20260421T212707
CREATED:20260107T161914Z
LAST-MODIFIED:20260109T110322Z
UID:25729-1768048200-1768059000@daisyco.net
SUMMARY:Vision Board Workshop
DESCRIPTION:Join us in person to craft your dream vision board and set goals for an awesome year ahead!\n\n\nJoin Our Vision Board Workshop!\nA vision board workshop is a guided\, creative experience designed to help you clarify your goals and intentions. You’ll thoughtfully curate images\, words\, and visuals to create a personalized vision board\, all while enjoying a relaxed atmosphere and a glass of wine. Author and Facilitator Cathy Manherz will introduce practical techniques for setting focused goals with clear\, achievable timelines. \n$39 per person — includes a glass of wine\, Cathy’s book\, and all workshop materials.
URL:https://daisyco.net/events/vision-board-workshop/
LOCATION:Daisy & Co. Wine Bar\, 41 King Street West\, Essex\, ON\, N0R 1G0\, Canada
ATTACH;FMTTYPE=image/jpeg:https://daisyco.net/wp-content/uploads/2026/01/1088f91a07d2ac9092bb67722de082ae-7bKkwh.tmp_.jpg
END:VEVENT
END:VCALENDAR