BEGIN:VCALENDAR
VERSION:2.0
PRODID:-//Daisy &amp; Co. Wine Bar - ECPv6.14.2//NONSGML v1.0//EN
CALSCALE:GREGORIAN
METHOD:PUBLISH
X-WR-CALNAME:Daisy &amp; Co. Wine Bar
X-ORIGINAL-URL:https://daisyco.net
X-WR-CALDESC:Events for Daisy &amp; Co. Wine Bar
REFRESH-INTERVAL;VALUE=DURATION:PT1H
X-Robots-Tag:noindex
X-PUBLISHED-TTL:PT1H
BEGIN:VTIMEZONE
TZID:America/Toronto
BEGIN:DAYLIGHT
TZOFFSETFROM:-0500
TZOFFSETTO:-0400
TZNAME:EDT
DTSTART:20260308T070000
END:DAYLIGHT
BEGIN:STANDARD
TZOFFSETFROM:-0400
TZOFFSETTO:-0500
TZNAME:EST
DTSTART:20261101T060000
END:STANDARD
END:VTIMEZONE
BEGIN:VEVENT
DTSTART;TZID=America/Toronto:20260522T183000
DTEND;TZID=America/Toronto:20260522T213000
DTSTAMP:20260421T201145
CREATED:20260413T113918Z
LAST-MODIFIED:20260413T113932Z
UID:25971-1779474600-1779485400@daisyco.net
SUMMARY:Live Music Fridays
DESCRIPTION:Relax and unwind every Friday night  with live\, local talent great company – see you there!\n\n\nLive Music Fridays\nGet ready to kick back and enjoy amazing tunes every Friday night! We bring you the best local artists\, creating the perfect vibe to chill with friends or meet new people. A great way to kick off  your weekend. See you there!
URL:https://daisyco.net/events/live-music-fridays-13/
LOCATION:Daisy & Co. Wine Bar\, 41 King Street West\, Essex\, ON\, N0R 1G0\, Canada
ATTACH;FMTTYPE=image/jpeg:https://daisyco.net/wp-content/uploads/2026/02/a0c65ec798f799d838faf7a5e2f602a2-bYiEyy.tmp_.jpg
END:VEVENT
BEGIN:VEVENT
DTSTART;TZID=America/Toronto:20260529T183000
DTEND;TZID=America/Toronto:20260529T213000
DTSTAMP:20260421T201145
CREATED:20260413T113919Z
LAST-MODIFIED:20260413T113932Z
UID:25972-1780079400-1780090200@daisyco.net
SUMMARY:Live Music Fridays
DESCRIPTION:Relax and unwind every Friday night  with live\, local talent great company – see you there!\n\n\nLive Music Fridays\nGet ready to kick back and enjoy amazing tunes every Friday night! We bring you the best local artists\, creating the perfect vibe to chill with friends or meet new people. A great way to kick off  your weekend. See you there!
URL:https://daisyco.net/events/live-music-fridays-14/
LOCATION:Daisy & Co. Wine Bar\, 41 King Street West\, Essex\, ON\, N0R 1G0\, Canada
ATTACH;FMTTYPE=image/jpeg:https://daisyco.net/wp-content/uploads/2026/02/a0c65ec798f799d838faf7a5e2f602a2-bYiEyy.tmp_.jpg
END:VEVENT
BEGIN:VEVENT
DTSTART;TZID=America/Toronto:20260605T183000
DTEND;TZID=America/Toronto:20260605T213000
DTSTAMP:20260421T201145
CREATED:20260413T113920Z
LAST-MODIFIED:20260413T113933Z
UID:25973-1780684200-1780695000@daisyco.net
SUMMARY:Live Music Fridays
DESCRIPTION:Relax and unwind every Friday night  with live\, local talent great company – see you there!\n\n\nLive Music Fridays\nGet ready to kick back and enjoy amazing tunes every Friday night! We bring you the best local artists\, creating the perfect vibe to chill with friends or meet new people. A great way to kick off  your weekend. See you there!
URL:https://daisyco.net/events/live-music-fridays-15/
LOCATION:Daisy & Co. Wine Bar\, 41 King Street West\, Essex\, ON\, N0R 1G0\, Canada
ATTACH;FMTTYPE=image/jpeg:https://daisyco.net/wp-content/uploads/2026/02/a0c65ec798f799d838faf7a5e2f602a2-bYiEyy.tmp_.jpg
END:VEVENT
BEGIN:VEVENT
DTSTART;TZID=America/Toronto:20260612T183000
DTEND;TZID=America/Toronto:20260612T213000
DTSTAMP:20260421T201145
CREATED:20260413T113920Z
LAST-MODIFIED:20260413T113933Z
UID:25974-1781289000-1781299800@daisyco.net
SUMMARY:Live Music Fridays
DESCRIPTION:Relax and unwind every Friday night  with live\, local talent great company – see you there!\n\n\nLive Music Fridays\nGet ready to kick back and enjoy amazing tunes every Friday night! We bring you the best local artists\, creating the perfect vibe to chill with friends or meet new people. A great way to kick off  your weekend. See you there!
URL:https://daisyco.net/events/live-music-fridays-16/
LOCATION:Daisy & Co. Wine Bar\, 41 King Street West\, Essex\, ON\, N0R 1G0\, Canada
ATTACH;FMTTYPE=image/jpeg:https://daisyco.net/wp-content/uploads/2026/02/a0c65ec798f799d838faf7a5e2f602a2-bYiEyy.tmp_.jpg
END:VEVENT
BEGIN:VEVENT
DTSTART;TZID=America/Toronto:20260619T183000
DTEND;TZID=America/Toronto:20260619T213000
DTSTAMP:20260421T201145
CREATED:20260413T113921Z
LAST-MODIFIED:20260413T113934Z
UID:25975-1781893800-1781904600@daisyco.net
SUMMARY:Live Music Fridays
DESCRIPTION:Relax and unwind every Friday night  with live\, local talent great company – see you there!\n\n\nLive Music Fridays\nGet ready to kick back and enjoy amazing tunes every Friday night! We bring you the best local artists\, creating the perfect vibe to chill with friends or meet new people. A great way to kick off  your weekend. See you there!
URL:https://daisyco.net/events/live-music-fridays-17/
LOCATION:Daisy & Co. Wine Bar\, 41 King Street West\, Essex\, ON\, N0R 1G0\, Canada
ATTACH;FMTTYPE=image/jpeg:https://daisyco.net/wp-content/uploads/2026/02/a0c65ec798f799d838faf7a5e2f602a2-bYiEyy.tmp_.jpg
END:VEVENT
BEGIN:VEVENT
DTSTART;TZID=America/Toronto:20260626T183000
DTEND;TZID=America/Toronto:20260626T213000
DTSTAMP:20260421T201145
CREATED:20260413T113922Z
LAST-MODIFIED:20260413T113934Z
UID:25976-1782498600-1782509400@daisyco.net
SUMMARY:Live Music Fridays
DESCRIPTION:Relax and unwind every Friday night  with live\, local talent great company – see you there!\n\n\nLive Music Fridays\nGet ready to kick back and enjoy amazing tunes every Friday night! We bring you the best local artists\, creating the perfect vibe to chill with friends or meet new people. A great way to kick off  your weekend. See you there!
URL:https://daisyco.net/events/live-music-fridays-18/
LOCATION:Daisy & Co. Wine Bar\, 41 King Street West\, Essex\, ON\, N0R 1G0\, Canada
ATTACH;FMTTYPE=image/jpeg:https://daisyco.net/wp-content/uploads/2026/02/a0c65ec798f799d838faf7a5e2f602a2-bYiEyy.tmp_.jpg
END:VEVENT
BEGIN:VEVENT
DTSTART;TZID=America/Toronto:20260703T183000
DTEND;TZID=America/Toronto:20260703T213000
DTSTAMP:20260421T201145
CREATED:20260413T113923Z
LAST-MODIFIED:20260413T113923Z
UID:25977-1783103400-1783114200@daisyco.net
SUMMARY:Live Music Fridays
DESCRIPTION:Relax and unwind every Friday night  with live\, local talent great company – see you there!\n\n\nLive Music Fridays\nGet ready to kick back and enjoy amazing tunes every Friday night! We bring you the best local artists\, creating the perfect vibe to chill with friends or meet new people. A great way to kick off  your weekend. See you there!
URL:https://daisyco.net/events/live-music-fridays-19/
LOCATION:Daisy & Co. Wine Bar\, 41 King Street West\, Essex\, ON\, N0R 1G0\, Canada
ATTACH;FMTTYPE=image/jpeg:https://daisyco.net/wp-content/uploads/2026/02/a0c65ec798f799d838faf7a5e2f602a2-bYiEyy.tmp_.jpg
END:VEVENT
BEGIN:VEVENT
DTSTART;TZID=America/Toronto:20260710T183000
DTEND;TZID=America/Toronto:20260710T213000
DTSTAMP:20260421T201145
CREATED:20260413T113924Z
LAST-MODIFIED:20260413T113924Z
UID:25978-1783708200-1783719000@daisyco.net
SUMMARY:Live Music Fridays
DESCRIPTION:Relax and unwind every Friday night  with live\, local talent great company – see you there!\n\n\nLive Music Fridays\nGet ready to kick back and enjoy amazing tunes every Friday night! We bring you the best local artists\, creating the perfect vibe to chill with friends or meet new people. A great way to kick off  your weekend. See you there!
URL:https://daisyco.net/events/live-music-fridays-20/
LOCATION:Daisy & Co. Wine Bar\, 41 King Street West\, Essex\, ON\, N0R 1G0\, Canada
ATTACH;FMTTYPE=image/jpeg:https://daisyco.net/wp-content/uploads/2026/02/a0c65ec798f799d838faf7a5e2f602a2-bYiEyy.tmp_.jpg
END:VEVENT
BEGIN:VEVENT
DTSTART;TZID=America/Toronto:20260717T183000
DTEND;TZID=America/Toronto:20260717T213000
DTSTAMP:20260421T201145
CREATED:20260413T113925Z
LAST-MODIFIED:20260413T113925Z
UID:25979-1784313000-1784323800@daisyco.net
SUMMARY:Live Music Fridays
DESCRIPTION:Relax and unwind every Friday night  with live\, local talent great company – see you there!\n\n\nLive Music Fridays\nGet ready to kick back and enjoy amazing tunes every Friday night! We bring you the best local artists\, creating the perfect vibe to chill with friends or meet new people. A great way to kick off  your weekend. See you there!
URL:https://daisyco.net/events/live-music-fridays-21/
LOCATION:Daisy & Co. Wine Bar\, 41 King Street West\, Essex\, ON\, N0R 1G0\, Canada
ATTACH;FMTTYPE=image/jpeg:https://daisyco.net/wp-content/uploads/2026/02/a0c65ec798f799d838faf7a5e2f602a2-bYiEyy.tmp_.jpg
END:VEVENT
BEGIN:VEVENT
DTSTART;TZID=America/Toronto:20260724T183000
DTEND;TZID=America/Toronto:20260724T213000
DTSTAMP:20260421T201145
CREATED:20260413T113926Z
LAST-MODIFIED:20260413T113926Z
UID:25980-1784917800-1784928600@daisyco.net
SUMMARY:Live Music Fridays
DESCRIPTION:Relax and unwind every Friday night  with live\, local talent great company – see you there!\n\n\nLive Music Fridays\nGet ready to kick back and enjoy amazing tunes every Friday night! We bring you the best local artists\, creating the perfect vibe to chill with friends or meet new people. A great way to kick off  your weekend. See you there!
URL:https://daisyco.net/events/live-music-fridays-22/
LOCATION:Daisy & Co. Wine Bar\, 41 King Street West\, Essex\, ON\, N0R 1G0\, Canada
ATTACH;FMTTYPE=image/jpeg:https://daisyco.net/wp-content/uploads/2026/02/a0c65ec798f799d838faf7a5e2f602a2-bYiEyy.tmp_.jpg
END:VEVENT
BEGIN:VEVENT
DTSTART;TZID=America/Toronto:20260731T183000
DTEND;TZID=America/Toronto:20260731T213000
DTSTAMP:20260421T201145
CREATED:20260413T113926Z
LAST-MODIFIED:20260413T113926Z
UID:25981-1785522600-1785533400@daisyco.net
SUMMARY:Live Music Fridays
DESCRIPTION:Relax and unwind every Friday night  with live\, local talent great company – see you there!\n\n\nLive Music Fridays\nGet ready to kick back and enjoy amazing tunes every Friday night! We bring you the best local artists\, creating the perfect vibe to chill with friends or meet new people. A great way to kick off  your weekend. See you there!
URL:https://daisyco.net/events/live-music-fridays-23/
LOCATION:Daisy & Co. Wine Bar\, 41 King Street West\, Essex\, ON\, N0R 1G0\, Canada
ATTACH;FMTTYPE=image/jpeg:https://daisyco.net/wp-content/uploads/2026/02/a0c65ec798f799d838faf7a5e2f602a2-bYiEyy.tmp_.jpg
END:VEVENT
BEGIN:VEVENT
DTSTART;TZID=America/Toronto:20260807T183000
DTEND;TZID=America/Toronto:20260807T213000
DTSTAMP:20260421T201145
CREATED:20260413T113927Z
LAST-MODIFIED:20260413T113927Z
UID:25982-1786127400-1786138200@daisyco.net
SUMMARY:Live Music Fridays
DESCRIPTION:Relax and unwind every Friday night  with live\, local talent great company – see you there!\n\n\nLive Music Fridays\nGet ready to kick back and enjoy amazing tunes every Friday night! We bring you the best local artists\, creating the perfect vibe to chill with friends or meet new people. A great way to kick off  your weekend. See you there!
URL:https://daisyco.net/events/live-music-fridays-24/
LOCATION:Daisy & Co. Wine Bar\, 41 King Street West\, Essex\, ON\, N0R 1G0\, Canada
ATTACH;FMTTYPE=image/jpeg:https://daisyco.net/wp-content/uploads/2026/02/a0c65ec798f799d838faf7a5e2f602a2-bYiEyy.tmp_.jpg
END:VEVENT
BEGIN:VEVENT
DTSTART;TZID=America/Toronto:20260814T183000
DTEND;TZID=America/Toronto:20260814T213000
DTSTAMP:20260421T201145
CREATED:20260413T113928Z
LAST-MODIFIED:20260413T113928Z
UID:25983-1786732200-1786743000@daisyco.net
SUMMARY:Live Music Fridays
DESCRIPTION:Relax and unwind every Friday night  with live\, local talent great company – see you there!\n\n\nLive Music Fridays\nGet ready to kick back and enjoy amazing tunes every Friday night! We bring you the best local artists\, creating the perfect vibe to chill with friends or meet new people. A great way to kick off  your weekend. See you there!
URL:https://daisyco.net/events/live-music-fridays-25/
LOCATION:Daisy & Co. Wine Bar\, 41 King Street West\, Essex\, ON\, N0R 1G0\, Canada
ATTACH;FMTTYPE=image/jpeg:https://daisyco.net/wp-content/uploads/2026/02/a0c65ec798f799d838faf7a5e2f602a2-bYiEyy.tmp_.jpg
END:VEVENT
BEGIN:VEVENT
DTSTART;TZID=America/Toronto:20260821T183000
DTEND;TZID=America/Toronto:20260821T213000
DTSTAMP:20260421T201145
CREATED:20260413T113929Z
LAST-MODIFIED:20260413T113929Z
UID:25984-1787337000-1787347800@daisyco.net
SUMMARY:Live Music Fridays
DESCRIPTION:Relax and unwind every Friday night  with live\, local talent great company – see you there!\n\n\nLive Music Fridays\nGet ready to kick back and enjoy amazing tunes every Friday night! We bring you the best local artists\, creating the perfect vibe to chill with friends or meet new people. A great way to kick off  your weekend. See you there!
URL:https://daisyco.net/events/live-music-fridays-26/
LOCATION:Daisy & Co. Wine Bar\, 41 King Street West\, Essex\, ON\, N0R 1G0\, Canada
ATTACH;FMTTYPE=image/jpeg:https://daisyco.net/wp-content/uploads/2026/02/a0c65ec798f799d838faf7a5e2f602a2-bYiEyy.tmp_.jpg
END:VEVENT
BEGIN:VEVENT
DTSTART;TZID=America/Toronto:20260828T183000
DTEND;TZID=America/Toronto:20260828T213000
DTSTAMP:20260421T201145
CREATED:20260413T113930Z
LAST-MODIFIED:20260413T113930Z
UID:25988-1787941800-1787952600@daisyco.net
SUMMARY:Live Music Fridays
DESCRIPTION:Relax and unwind every Friday night  with live\, local talent great company – see you there!\n\n\nLive Music Fridays\nGet ready to kick back and enjoy amazing tunes every Friday night! We bring you the best local artists\, creating the perfect vibe to chill with friends or meet new people. A great way to kick off  your weekend. See you there!
URL:https://daisyco.net/events/live-music-fridays-27/
LOCATION:Daisy & Co. Wine Bar\, 41 King Street West\, Essex\, ON\, N0R 1G0\, Canada
ATTACH;FMTTYPE=image/jpeg:https://daisyco.net/wp-content/uploads/2026/02/a0c65ec798f799d838faf7a5e2f602a2-bYiEyy.tmp_.jpg
END:VEVENT
BEGIN:VEVENT
DTSTART;TZID=America/Toronto:20260904T183000
DTEND;TZID=America/Toronto:20260904T213000
DTSTAMP:20260421T201145
CREATED:20260413T113931Z
LAST-MODIFIED:20260413T113931Z
UID:25989-1788546600-1788557400@daisyco.net
SUMMARY:Live Music Fridays
DESCRIPTION:Relax and unwind every Friday night  with live\, local talent great company – see you there!\n\n\nLive Music Fridays\nGet ready to kick back and enjoy amazing tunes every Friday night! We bring you the best local artists\, creating the perfect vibe to chill with friends or meet new people. A great way to kick off  your weekend. See you there!
URL:https://daisyco.net/events/live-music-fridays-28/
LOCATION:Daisy & Co. Wine Bar\, 41 King Street West\, Essex\, ON\, N0R 1G0\, Canada
ATTACH;FMTTYPE=image/jpeg:https://daisyco.net/wp-content/uploads/2026/02/a0c65ec798f799d838faf7a5e2f602a2-bYiEyy.tmp_.jpg
END:VEVENT
BEGIN:VEVENT
DTSTART;TZID=America/Toronto:20260911T183000
DTEND;TZID=America/Toronto:20260911T213000
DTSTAMP:20260421T201145
CREATED:20260413T113932Z
LAST-MODIFIED:20260413T113932Z
UID:25990-1789151400-1789162200@daisyco.net
SUMMARY:Live Music Fridays
DESCRIPTION:Relax and unwind every Friday night  with live\, local talent great company – see you there!\n\n\nLive Music Fridays\nGet ready to kick back and enjoy amazing tunes every Friday night! We bring you the best local artists\, creating the perfect vibe to chill with friends or meet new people. A great way to kick off  your weekend. See you there!
URL:https://daisyco.net/events/live-music-fridays-29/
LOCATION:Daisy & Co. Wine Bar\, 41 King Street West\, Essex\, ON\, N0R 1G0\, Canada
ATTACH;FMTTYPE=image/jpeg:https://daisyco.net/wp-content/uploads/2026/02/a0c65ec798f799d838faf7a5e2f602a2-bYiEyy.tmp_.jpg
END:VEVENT
BEGIN:VEVENT
DTSTART;TZID=America/Toronto:20260918T183000
DTEND;TZID=America/Toronto:20260918T213000
DTSTAMP:20260421T201145
CREATED:20260413T113933Z
LAST-MODIFIED:20260413T113933Z
UID:25991-1789756200-1789767000@daisyco.net
SUMMARY:Live Music Fridays
DESCRIPTION:Relax and unwind every Friday night  with live\, local talent great company – see you there!\n\n\nLive Music Fridays\nGet ready to kick back and enjoy amazing tunes every Friday night! We bring you the best local artists\, creating the perfect vibe to chill with friends or meet new people. A great way to kick off  your weekend. See you there!
URL:https://daisyco.net/events/live-music-fridays-30/
LOCATION:Daisy & Co. Wine Bar\, 41 King Street West\, Essex\, ON\, N0R 1G0\, Canada
ATTACH;FMTTYPE=image/jpeg:https://daisyco.net/wp-content/uploads/2026/02/a0c65ec798f799d838faf7a5e2f602a2-bYiEyy.tmp_.jpg
END:VEVENT
BEGIN:VEVENT
DTSTART;TZID=America/Toronto:20260925T183000
DTEND;TZID=America/Toronto:20260925T213000
DTSTAMP:20260421T201145
CREATED:20260413T113934Z
LAST-MODIFIED:20260413T113934Z
UID:25992-1790361000-1790371800@daisyco.net
SUMMARY:Live Music Fridays
DESCRIPTION:Relax and unwind every Friday night  with live\, local talent great company – see you there!\n\n\nLive Music Fridays\nGet ready to kick back and enjoy amazing tunes every Friday night! We bring you the best local artists\, creating the perfect vibe to chill with friends or meet new people. A great way to kick off  your weekend. See you there!
URL:https://daisyco.net/events/live-music-fridays-31/
LOCATION:Daisy & Co. Wine Bar\, 41 King Street West\, Essex\, ON\, N0R 1G0\, Canada
ATTACH;FMTTYPE=image/jpeg:https://daisyco.net/wp-content/uploads/2026/02/a0c65ec798f799d838faf7a5e2f602a2-bYiEyy.tmp_.jpg
END:VEVENT
BEGIN:VEVENT
DTSTART;TZID=America/Toronto:20261002T183000
DTEND;TZID=America/Toronto:20261002T213000
DTSTAMP:20260421T201145
CREATED:20260413T113935Z
LAST-MODIFIED:20260413T113935Z
UID:25993-1790965800-1790976600@daisyco.net
SUMMARY:Live Music Fridays
DESCRIPTION:Relax and unwind every Friday night  with live\, local talent great company – see you there!\n\n\nLive Music Fridays\nGet ready to kick back and enjoy amazing tunes every Friday night! We bring you the best local artists\, creating the perfect vibe to chill with friends or meet new people. A great way to kick off  your weekend. See you there!
URL:https://daisyco.net/events/live-music-fridays-32/
LOCATION:Daisy & Co. Wine Bar\, 41 King Street West\, Essex\, ON\, N0R 1G0\, Canada
ATTACH;FMTTYPE=image/jpeg:https://daisyco.net/wp-content/uploads/2026/02/a0c65ec798f799d838faf7a5e2f602a2-bYiEyy.tmp_.jpg
END:VEVENT
END:VCALENDAR